BEGIN:VCALENDAR
VERSION:2.0
PRODID:-//NHTI Extranet - ECPv6.15.20//NONSGML v1.0//EN
CALSCALE:GREGORIAN
METHOD:PUBLISH
X-ORIGINAL-URL:https://lynx.nhti.edu
X-WR-CALDESC:Events for NHTI Extranet
REFRESH-INTERVAL;VALUE=DURATION:PT1H
X-Robots-Tag:noindex
X-PUBLISHED-TTL:PT1H
BEGIN:VTIMEZONE
TZID:America/New_York
BEGIN:DAYLIGHT
TZOFFSETFROM:-0500
TZOFFSETTO:-0400
TZNAME:EDT
DTSTART:20240310T070000
END:DAYLIGHT
BEGIN:STANDARD
TZOFFSETFROM:-0400
TZOFFSETTO:-0500
TZNAME:EST
DTSTART:20241103T060000
END:STANDARD
BEGIN:DAYLIGHT
TZOFFSETFROM:-0500
TZOFFSETTO:-0400
TZNAME:EDT
DTSTART:20250309T070000
END:DAYLIGHT
BEGIN:STANDARD
TZOFFSETFROM:-0400
TZOFFSETTO:-0500
TZNAME:EST
DTSTART:20251102T060000
END:STANDARD
BEGIN:DAYLIGHT
TZOFFSETFROM:-0500
TZOFFSETTO:-0400
TZNAME:EDT
DTSTART:20260308T070000
END:DAYLIGHT
BEGIN:STANDARD
TZOFFSETFROM:-0400
TZOFFSETTO:-0500
TZNAME:EST
DTSTART:20261101T060000
END:STANDARD
END:VTIMEZONE
BEGIN:VEVENT
DTSTART;TZID=America/New_York:20250221T190000
DTEND;TZID=America/New_York:20250221T210000
DTSTAMP:20260423T081412
CREATED:20250130T074244Z
LAST-MODIFIED:20250221T081226Z
UID:2481-1740164400-1740171600@lynx.nhti.edu
SUMMARY:Film Screening: Every Little Thing
DESCRIPTION:February 21 – Friday – 7:00 pm \nEvery Little Thing “Not Rated” (Australia\, 2024) 93 mins. \nEvery Little Thing\, a breathtaking award-winning documentary about the beauty of hummingbirds. Winner and nominee at Nantucket\, Sundance and other festivals\, documentary filmmaker Sally Aiken presents the beauty of hummingbirds and follows the experiences of Terry Masear who cares for injured hummingbirds. “A vibrant documentary” says Niani Scott for Roger Ebert Reviews. Remarkable cinematography! \nSweeney Hall Auditorium (S-122) on the campus of NHTI\, Concord’s Community College\, 31 College Drive\, Concord\, NH 03301 \nNHTI Students FREE with valid NHTI ID\, all others $10.00\, cash or check\, no advance ticket sales. \nFor additional information please contact Steve Ambra at sambra@ccsnh.edu
URL:https://lynx.nhti.edu/event/film-screening-every-little-thing/
LOCATION:NHTI Sweeney Auditorium\, 31 College Drive\, Concord\, NH\, 03301\, United States
CATEGORIES:Community Events,Student Events
ATTACH;FMTTYPE=image/png:https://lynx.nhti.edu/wp-content/uploads/2025/01/EVENT_EveryLittleThing_Feb21_0125-ofhGKY.tmp_.png
END:VEVENT
END:VCALENDAR