BEGIN:VCALENDAR
VERSION:2.0
PRODID:-//NHTI Extranet - ECPv6.15.20//NONSGML v1.0//EN
CALSCALE:GREGORIAN
METHOD:PUBLISH
X-WR-CALNAME:NHTI Extranet
X-ORIGINAL-URL:https://lynx.nhti.edu
X-WR-CALDESC:Events for NHTI Extranet
REFRESH-INTERVAL;VALUE=DURATION:PT1H
X-Robots-Tag:noindex
X-PUBLISHED-TTL:PT1H
BEGIN:VTIMEZONE
TZID:America/New_York
BEGIN:DAYLIGHT
TZOFFSETFROM:-0500
TZOFFSETTO:-0400
TZNAME:EDT
DTSTART:20240310T070000
END:DAYLIGHT
BEGIN:STANDARD
TZOFFSETFROM:-0400
TZOFFSETTO:-0500
TZNAME:EST
DTSTART:20241103T060000
END:STANDARD
BEGIN:DAYLIGHT
TZOFFSETFROM:-0500
TZOFFSETTO:-0400
TZNAME:EDT
DTSTART:20250309T070000
END:DAYLIGHT
BEGIN:STANDARD
TZOFFSETFROM:-0400
TZOFFSETTO:-0500
TZNAME:EST
DTSTART:20251102T060000
END:STANDARD
BEGIN:DAYLIGHT
TZOFFSETFROM:-0500
TZOFFSETTO:-0400
TZNAME:EDT
DTSTART:20260308T070000
END:DAYLIGHT
BEGIN:STANDARD
TZOFFSETFROM:-0400
TZOFFSETTO:-0500
TZNAME:EST
DTSTART:20261101T060000
END:STANDARD
END:VTIMEZONE
BEGIN:VEVENT
DTSTART;TZID=America/New_York:20250326T093000
DTEND;TZID=America/New_York:20250326T143000
DTSTAMP:20260421T055238
CREATED:20250326T084245Z
LAST-MODIFIED:20250326T084245Z
UID:2592-1742981400-1742999400@lynx.nhti.edu
SUMMARY:Blood Drive
DESCRIPTION:American Red Cross Blood Drive will be here at NHTI Wednesday\, March 26th in the Gym. \nPlease consider donating!  To register and find out more information click on the link below. \nhttps://pmc.ncbi.nlm.nih.gov/articles/PMC4610267/
URL:https://lynx.nhti.edu/event/blood-drive-2/
LOCATION:Goldie Crocker Wellness Center Gymnasium\, 31 College Drive\, Concord\, NH\, 03301\, United States
CATEGORIES:Student Events
ATTACH;FMTTYPE=image/jpeg:https://lynx.nhti.edu/wp-content/uploads/2025/03/Blood-Drive2-3.26-4uYXys.tmp_.jpg
END:VEVENT
BEGIN:VEVENT
DTSTART;TZID=America/New_York:20250326T110000
DTEND;TZID=America/New_York:20250326T130000
DTSTAMP:20260421T055238
CREATED:20250227T081257Z
LAST-MODIFIED:20250326T084246Z
UID:2549-1742986800-1742994000@lynx.nhti.edu
SUMMARY:College Transfer Visit: SNHU
DESCRIPTION:Join our special guests from local 4-year colleges to help you figure out where your educational journey leads next. These representatives will provide you with more information and get you started with the transfer process. Stop by and chat.  No appointment necessary.  For more information\, email NHTIadvising@ccsnh.edu or stop by Academic Advising.
URL:https://lynx.nhti.edu/event/college-transfer-visit-snhu-2/
LOCATION:Wellness Center Lobby\, 31 College Drive\, Concord\, NH\, 03301\, United States
CATEGORIES:Student Events
ATTACH;FMTTYPE=image/png:https://lynx.nhti.edu/wp-content/uploads/2024/09/EVENT_SNHUTransferVisit_0924-tftUwg.tmp_.png
ORGANIZER;CN="SNHU":MAILTO:c.sylvester@snhu.edu
END:VEVENT
END:VCALENDAR