BEGIN:VCALENDAR
VERSION:2.0
PRODID:-//NHTI Extranet - ECPv6.15.20//NONSGML v1.0//EN
CALSCALE:GREGORIAN
METHOD:PUBLISH
X-WR-CALNAME:NHTI Extranet
X-ORIGINAL-URL:https://lynx.nhti.edu
X-WR-CALDESC:Events for NHTI Extranet
REFRESH-INTERVAL;VALUE=DURATION:PT1H
X-Robots-Tag:noindex
X-PUBLISHED-TTL:PT1H
BEGIN:VTIMEZONE
TZID:America/New_York
BEGIN:DAYLIGHT
TZOFFSETFROM:-0500
TZOFFSETTO:-0400
TZNAME:EDT
DTSTART:20240310T070000
END:DAYLIGHT
BEGIN:STANDARD
TZOFFSETFROM:-0400
TZOFFSETTO:-0500
TZNAME:EST
DTSTART:20241103T060000
END:STANDARD
BEGIN:DAYLIGHT
TZOFFSETFROM:-0500
TZOFFSETTO:-0400
TZNAME:EDT
DTSTART:20250309T070000
END:DAYLIGHT
BEGIN:STANDARD
TZOFFSETFROM:-0400
TZOFFSETTO:-0500
TZNAME:EST
DTSTART:20251102T060000
END:STANDARD
BEGIN:DAYLIGHT
TZOFFSETFROM:-0500
TZOFFSETTO:-0400
TZNAME:EDT
DTSTART:20260308T070000
END:DAYLIGHT
BEGIN:STANDARD
TZOFFSETFROM:-0400
TZOFFSETTO:-0500
TZNAME:EST
DTSTART:20261101T060000
END:STANDARD
END:VTIMEZONE
BEGIN:VEVENT
DTSTART;TZID=America/New_York:20250429T100000
DTEND;TZID=America/New_York:20250429T120000
DTSTAMP:20260425T204808
CREATED:20240416T054304Z
LAST-MODIFIED:20250425T183400Z
UID:1943-1745920800-1745928000@lynx.nhti.edu
SUMMARY:FREE Chair Massages
DESCRIPTION:Destress from your finals prep with a free chair massage in the Student Center Rotunda!
URL:https://lynx.nhti.edu/event/free-chair-massages-2/
LOCATION:NH
CATEGORIES:Student Events
ATTACH;FMTTYPE=image/png:https://lynx.nhti.edu/wp-content/uploads/2024/04/WatchFire-Signs-1.png
END:VEVENT
BEGIN:VEVENT
DTSTART;TZID=America/New_York:20250429T120000
DTEND;TZID=America/New_York:20250429T140000
DTSTAMP:20260425T204808
CREATED:20250425T173945Z
LAST-MODIFIED:20250425T173945Z
UID:2664-1745928000-1745935200@lynx.nhti.edu
SUMMARY:Support in Recovery
DESCRIPTION:Join us during NHTI’s Stress Reduction Week for an afternoon of accessing resources for recovery from substance use. \n\nTreatment & Recovery Organizations\nCommunity Resources\nTherapeutic Activities\nFood & Beverages\nSupport & Community\n\nQuestions or seeking additional mental health support? \nEmail: NHTILynxCareCenter@ccsnh.edu
URL:https://lynx.nhti.edu/event/support-in-recovery/
LOCATION:NHTI Student Center\, 31 College Drive\, Concord\, NH\, 03301\, United States
ATTACH;FMTTYPE=image/png:https://lynx.nhti.edu/wp-content/uploads/2025/04/WatchFire-Signs.png
END:VEVENT
END:VCALENDAR